BEGIN:VCALENDAR
VERSION:2.0
PRODID:-//Alcoholics Anonymous Calgary - ECPv6.15.20//NONSGML v1.0//EN
CALSCALE:GREGORIAN
METHOD:PUBLISH
X-WR-CALNAME:Alcoholics Anonymous Calgary
X-ORIGINAL-URL:https://calgaryaa.org
X-WR-CALDESC:Events for Alcoholics Anonymous Calgary
REFRESH-INTERVAL;VALUE=DURATION:PT1H
X-Robots-Tag:noindex
X-PUBLISHED-TTL:PT1H
BEGIN:VTIMEZONE
TZID:America/Edmonton
BEGIN:DAYLIGHT
TZOFFSETFROM:-0700
TZOFFSETTO:-0600
TZNAME:MDT
DTSTART:20250309T090000
END:DAYLIGHT
BEGIN:STANDARD
TZOFFSETFROM:-0600
TZOFFSETTO:-0700
TZNAME:MST
DTSTART:20251102T080000
END:STANDARD
BEGIN:DAYLIGHT
TZOFFSETFROM:-0700
TZOFFSETTO:-0600
TZNAME:MDT
DTSTART:20260308T090000
END:DAYLIGHT
BEGIN:STANDARD
TZOFFSETFROM:-0600
TZOFFSETTO:-0700
TZNAME:MST
DTSTART:20261101T080000
END:STANDARD
BEGIN:DAYLIGHT
TZOFFSETFROM:-0700
TZOFFSETTO:-0600
TZNAME:MDT
DTSTART:20270314T090000
END:DAYLIGHT
BEGIN:STANDARD
TZOFFSETFROM:-0600
TZOFFSETTO:-0700
TZNAME:MST
DTSTART:20271107T080000
END:STANDARD
END:VTIMEZONE
BEGIN:VEVENT
DTSTART;TZID=America/Edmonton:20260522T170000
DTEND;TZID=America/Edmonton:20260523T210000
DTSTAMP:20260423T170045
CREATED:20260414T035654Z
LAST-MODIFIED:20260414T035654Z
UID:25439-1779469200-1779570000@calgaryaa.org
SUMMARY:Area 78 Area Committee Meeting
DESCRIPTION:May_2026_ACM\n\n \n**Download Poster** \n  \n 
URL:https://calgaryaa.org/event/area-78-area-committee-meeting/
LOCATION:Fort St John Curling Club\, 9504 96 St\, Fort St John\, AB\, V1J4J3
CATEGORIES:AA Events,Area Committee Meeting
ORGANIZER;CN="Area 78":MAILTO:chair@area78.org
END:VEVENT
END:VCALENDAR