BEGIN:VCALENDAR
VERSION:2.0
PRODID:-//Alcoholics Anonymous Calgary - ECPv6.15.20//NONSGML v1.0//EN
CALSCALE:GREGORIAN
METHOD:PUBLISH
X-ORIGINAL-URL:https://calgaryaa.org
X-WR-CALDESC:Events for Alcoholics Anonymous Calgary
REFRESH-INTERVAL;VALUE=DURATION:PT1H
X-Robots-Tag:noindex
X-PUBLISHED-TTL:PT1H
BEGIN:VTIMEZONE
TZID:America/Edmonton
BEGIN:DAYLIGHT
TZOFFSETFROM:-0700
TZOFFSETTO:-0600
TZNAME:MDT
DTSTART:20250309T090000
END:DAYLIGHT
BEGIN:STANDARD
TZOFFSETFROM:-0600
TZOFFSETTO:-0700
TZNAME:MST
DTSTART:20251102T080000
END:STANDARD
BEGIN:DAYLIGHT
TZOFFSETFROM:-0700
TZOFFSETTO:-0600
TZNAME:MDT
DTSTART:20260308T090000
END:DAYLIGHT
BEGIN:STANDARD
TZOFFSETFROM:-0600
TZOFFSETTO:-0700
TZNAME:MST
DTSTART:20261101T080000
END:STANDARD
BEGIN:DAYLIGHT
TZOFFSETFROM:-0700
TZOFFSETTO:-0600
TZNAME:MDT
DTSTART:20270314T090000
END:DAYLIGHT
BEGIN:STANDARD
TZOFFSETFROM:-0600
TZOFFSETTO:-0700
TZNAME:MST
DTSTART:20271107T080000
END:STANDARD
END:VTIMEZONE
BEGIN:VEVENT
DTSTART;TZID=America/Edmonton:20260605T170000
DTEND;TZID=America/Edmonton:20260607T120000
DTSTAMP:20260423T200452
CREATED:20260304T170015Z
LAST-MODIFIED:20260304T174000Z
UID:25375-1780678800-1780833600@calgaryaa.org
SUMMARY:Calgary Gratitude Roundup 2026
DESCRIPTION:Calgary-Gratitude-Roundup-2026-June-5-7\n\n \nDownload poster \n  \n 
URL:https://calgaryaa.org/event/calgary-gratitude-roundup-2026/
LOCATION:Glenmore Inn and Convention Centre\, 1000 Glenmore Ct SE\, Calgary\, Alberta\, T2C 2E6\, Canada
CATEGORIES:AA Events,Roundup
END:VEVENT
END:VCALENDAR