BEGIN:VCALENDAR
VERSION:2.0
PRODID:-//Alcoholics Anonymous Calgary - ECPv6.15.20//NONSGML v1.0//EN
CALSCALE:GREGORIAN
METHOD:PUBLISH
X-ORIGINAL-URL:https://calgaryaa.org
X-WR-CALDESC:Events for Alcoholics Anonymous Calgary
REFRESH-INTERVAL;VALUE=DURATION:PT1H
X-Robots-Tag:noindex
X-PUBLISHED-TTL:PT1H
BEGIN:VTIMEZONE
TZID:America/Edmonton
BEGIN:DAYLIGHT
TZOFFSETFROM:-0700
TZOFFSETTO:-0600
TZNAME:MDT
DTSTART:20250309T090000
END:DAYLIGHT
BEGIN:STANDARD
TZOFFSETFROM:-0600
TZOFFSETTO:-0700
TZNAME:MST
DTSTART:20251102T080000
END:STANDARD
BEGIN:DAYLIGHT
TZOFFSETFROM:-0700
TZOFFSETTO:-0600
TZNAME:MDT
DTSTART:20260308T090000
END:DAYLIGHT
BEGIN:STANDARD
TZOFFSETFROM:-0600
TZOFFSETTO:-0700
TZNAME:MST
DTSTART:20261101T080000
END:STANDARD
BEGIN:DAYLIGHT
TZOFFSETFROM:-0700
TZOFFSETTO:-0600
TZNAME:MDT
DTSTART:20270314T090000
END:DAYLIGHT
BEGIN:STANDARD
TZOFFSETFROM:-0600
TZOFFSETTO:-0700
TZNAME:MST
DTSTART:20271107T080000
END:STANDARD
END:VTIMEZONE
BEGIN:VEVENT
DTSTART;TZID=America/Edmonton:20260724T180000
DTEND;TZID=America/Edmonton:20260726T120000
DTSTAMP:20260422T055506
CREATED:20260422T044135Z
LAST-MODIFIED:20260422T044715Z
UID:25453-1784916000-1785067200@calgaryaa.org
SUMMARY:38th Annual Consort Campout
DESCRIPTION:Consort Campout 2026\nClick on image below to download poster: \n\n \n**Download Poster** \n 
URL:https://calgaryaa.org/event/38th-annual-consort-campout/
LOCATION:Gooseberry Lake Provincial Park\, Group Site B\, Consort\, Alberta\, Canada
CATEGORIES:AA Events,Campout
ORGANIZER;CN="Consort Group":MAILTO:cb@consortenterprise.com
END:VEVENT
END:VCALENDAR