BEGIN:VCALENDAR
VERSION:2.0
PRODID:-//Alcoholics Anonymous Calgary - ECPv6.15.20//NONSGML v1.0//EN
CALSCALE:GREGORIAN
METHOD:PUBLISH
X-WR-CALNAME:Alcoholics Anonymous Calgary
X-ORIGINAL-URL:https://calgaryaa.org
X-WR-CALDESC:Events for Alcoholics Anonymous Calgary
REFRESH-INTERVAL;VALUE=DURATION:PT1H
X-Robots-Tag:noindex
X-PUBLISHED-TTL:PT1H
BEGIN:VTIMEZONE
TZID:America/Regina
BEGIN:STANDARD
TZOFFSETFROM:-0600
TZOFFSETTO:-0600
TZNAME:CST
DTSTART:20250101T000000
END:STANDARD
END:VTIMEZONE
BEGIN:VTIMEZONE
TZID:America/Edmonton
BEGIN:DAYLIGHT
TZOFFSETFROM:-0700
TZOFFSETTO:-0600
TZNAME:MDT
DTSTART:20250309T090000
END:DAYLIGHT
BEGIN:STANDARD
TZOFFSETFROM:-0600
TZOFFSETTO:-0700
TZNAME:MST
DTSTART:20251102T080000
END:STANDARD
BEGIN:DAYLIGHT
TZOFFSETFROM:-0700
TZOFFSETTO:-0600
TZNAME:MDT
DTSTART:20260308T090000
END:DAYLIGHT
BEGIN:STANDARD
TZOFFSETFROM:-0600
TZOFFSETTO:-0700
TZNAME:MST
DTSTART:20261101T080000
END:STANDARD
BEGIN:DAYLIGHT
TZOFFSETFROM:-0700
TZOFFSETTO:-0600
TZNAME:MDT
DTSTART:20270314T090000
END:DAYLIGHT
BEGIN:STANDARD
TZOFFSETFROM:-0600
TZOFFSETTO:-0700
TZNAME:MST
DTSTART:20271107T080000
END:STANDARD
END:VTIMEZONE
BEGIN:VEVENT
DTSTART;TZID=America/Regina:20260612T180000
DTEND;TZID=America/Regina:20260614T235900
DTSTAMP:20260419T063041
CREATED:20260106T030024Z
LAST-MODIFIED:20260304T171452Z
UID:24604-1781287200-1781481540@calgaryaa.org
SUMMARY:Western Canada Regional Forum 2026
DESCRIPTION:Western-Canada-Regional-Forum-2026-June-12-14\n\n \nDownload poster \n  \n 
URL:https://calgaryaa.org/event/western-canada-regional-forum-2026/
LOCATION:Travelodge Hotel Saskatoon\, 106 Circle Drive West\, Saskatoon\, SK\, S7L 41K\, Canada
CATEGORIES:AA Events,Conference,Seminar/Workshop,Special Event
END:VEVENT
BEGIN:VEVENT
DTSTART;TZID=America/Edmonton:20260612T180000
DTEND;TZID=America/Edmonton:20260614T120000
DTSTAMP:20260419T063041
CREATED:20260320T142643Z
LAST-MODIFIED:20260320T150047Z
UID:25393-1781287200-1781438400@calgaryaa.org
SUMMARY:Ladies’ Silent Meditation Retreat
DESCRIPTION:Download poster
URL:https://calgaryaa.org/event/ladies-silent-meditation-retreat/
LOCATION:Sunnyside Christian Retreat Centre\, 202 Birchcliff Rd\, Birchcliff\, Ab\, T4S 1R6\, Canada
CATEGORIES:AA Events,Campout,Ladies,Retreat
END:VEVENT
BEGIN:VEVENT
DTSTART;TZID=America/Edmonton:20260612T115900
DTEND;TZID=America/Edmonton:20260614T235900
DTSTAMP:20260419T063041
CREATED:20260203T205156Z
LAST-MODIFIED:20260303T203944Z
UID:25312-1781265540-1781481540@calgaryaa.org
SUMMARY:Sylvan Lake Round Up Summer 2026
DESCRIPTION:District-26-Roundup-at-Sylvan-Lake-June-12-14-6\n\n \nDownload poster \n  \n 
URL:https://calgaryaa.org/event/sylvan-lake-round-up-summer-2026/
LOCATION:Sunnyside Christian Retreat Centre\, 202 Birchcliff Rd\, Birchcliff\, Ab\, T4S 1R6\, Canada
CATEGORIES:AA Events,Roundup
END:VEVENT
BEGIN:VEVENT
DTSTART;TZID=America/Edmonton:20260610T111500
DTEND;TZID=America/Edmonton:20260610T131500
DTSTAMP:20260419T063041
CREATED:20260329T204406Z
LAST-MODIFIED:20260329T205100Z
UID:25403-1781090100-1781097300@calgaryaa.org
SUMMARY:Edmonton CPC Luncheon
DESCRIPTION:PICPC-LUNCHEON-poster-2026-sm\n\n \n**Download Poster**
URL:https://calgaryaa.org/event/edmonton-cpc-luncheon/
LOCATION:Chateau Louis Hotel\, 11727 Kingsway Avenue\, Edmonton\, Alberta\, T5G 3A1\, Canada
CATEGORIES:AA Events,CPC,Luncheon
ORGANIZER;CN="Edmonton CPC Committee":MAILTO:picpcchair@edmontonaa.org
END:VEVENT
BEGIN:VEVENT
DTSTART;TZID=America/Edmonton:20260623T190000
DTEND;TZID=America/Edmonton:20260623T200000
DTSTAMP:20260419T063041
CREATED:20260114T023612Z
LAST-MODIFIED:20260114T024346Z
UID:25262-1782241200-1782244800@calgaryaa.org
SUMMARY:CGSC Steering Committee
DESCRIPTION:Calgary General Service Committee Steering Committee. 7pm at Central Office
URL:https://calgaryaa.org/event/cgsc-steering-committee/
LOCATION:Central Service Office\, 4021 4 St. SE\, Calgary\, Alberta\, Canada
CATEGORIES:Service Committee Meeting
ORGANIZER;CN="Calgary General Service Committee":MAILTO:chair@cgscaa.org
END:VEVENT
BEGIN:VEVENT
DTSTART;TZID=America/Edmonton:20260605T170000
DTEND;TZID=America/Edmonton:20260607T120000
DTSTAMP:20260419T063041
CREATED:20260304T170015Z
LAST-MODIFIED:20260304T174000Z
UID:25375-1780678800-1780833600@calgaryaa.org
SUMMARY:Calgary Gratitude Roundup 2026
DESCRIPTION:Calgary-Gratitude-Roundup-2026-June-5-7\n\n \nDownload poster \n  \n 
URL:https://calgaryaa.org/event/calgary-gratitude-roundup-2026/
LOCATION:Glenmore Inn and Convention Centre\, 1000 Glenmore Ct SE\, Calgary\, Alberta\, T2C 2E6\, Canada
CATEGORIES:AA Events,Roundup
END:VEVENT
BEGIN:VEVENT
DTSTART;TZID=America/Edmonton:20260522T170000
DTEND;TZID=America/Edmonton:20260523T210000
DTSTAMP:20260419T063041
CREATED:20260414T035654Z
LAST-MODIFIED:20260414T035654Z
UID:25439-1779469200-1779570000@calgaryaa.org
SUMMARY:Area 78 Area Committee Meeting
DESCRIPTION:May_2026_ACM\n\n \n**Download Poster** \n  \n 
URL:https://calgaryaa.org/event/area-78-area-committee-meeting/
LOCATION:Fort St John Curling Club\, 9504 96 St\, Fort St John\, AB\, V1J4J3
CATEGORIES:AA Events,Area Committee Meeting
ORGANIZER;CN="Area 78":MAILTO:chair@area78.org
END:VEVENT
BEGIN:VEVENT
DTSTART;TZID=America/Edmonton:20260526T190000
DTEND;TZID=America/Edmonton:20260526T200000
DTSTAMP:20260419T063041
CREATED:20260114T024312Z
LAST-MODIFIED:20260114T024312Z
UID:25266-1779822000-1779825600@calgaryaa.org
SUMMARY:CGSC Steering Committee
DESCRIPTION:Calgary General Service Committee Steering Committee. 7pm at Central Office
URL:https://calgaryaa.org/event/cgsc-steering-committee-4/
LOCATION:Central Service Office\, 4021 4 St. SE\, Calgary\, Alberta\, Canada
CATEGORIES:Service Committee Meeting
ORGANIZER;CN="Calgary General Service Committee":MAILTO:chair@cgscaa.org
END:VEVENT
BEGIN:VEVENT
DTSTART;TZID=America/Edmonton:20260428T190000
DTEND;TZID=America/Edmonton:20260428T200000
DTSTAMP:20260419T063041
CREATED:20260114T023758Z
LAST-MODIFIED:20260114T024214Z
UID:25268-1777402800-1777406400@calgaryaa.org
SUMMARY:CGSC Steering Committee
DESCRIPTION:Calgary General Service Committee Steering Committee. 7pm at Central Office
URL:https://calgaryaa.org/event/cgsc-steering-committee-3/
LOCATION:Central Service Office\, 4021 4 St. SE\, Calgary\, Alberta\, Canada
CATEGORIES:Service Committee Meeting
ORGANIZER;CN="Calgary General Service Committee":MAILTO:chair@cgscaa.org
END:VEVENT
BEGIN:VEVENT
DTSTART;TZID=America/Edmonton:20260410T170000
DTEND;TZID=America/Edmonton:20260412T140000
DTSTAMP:20260419T063041
CREATED:20260119T194544Z
LAST-MODIFIED:20260304T175152Z
UID:24677-1775840400-1776002400@calgaryaa.org
SUMMARY:Banff Roundup 2026
DESCRIPTION:Banff-Roundup-2026-April-10-12\n\n \nDownload poster \n 
URL:https://calgaryaa.org/event/banff-roundup-2026/
LOCATION:Banff Park Lodge\, 222 Lynx St.\, Banff\, Alberta\, Canada
CATEGORIES:AA Events,Roundup
END:VEVENT
BEGIN:VEVENT
DTSTART;TZID=America/Edmonton:20260327T180000
DTEND;TZID=America/Edmonton:20260329T120000
DTSTAMP:20260419T063041
CREATED:20260123T033205Z
LAST-MODIFIED:20260303T203220Z
UID:25296-1774634400-1774785600@calgaryaa.org
SUMMARY:AREA 78 PRE-CONFERENCE ASSEMBLY
DESCRIPTION:March Pre Conference Poster\nClick on image to download the poster
URL:https://calgaryaa.org/event/area-78-pre-conference-assembly/
LOCATION:Best Western Premier Calgary Plaza Hotel\, 1316 33 St NE\, Calgary\, Alberta\, T2A 6B6\, Canada
CATEGORIES:AA Events,Assembly
ORGANIZER;CN="Area 78":MAILTO:Chair@Area78.Org
END:VEVENT
END:VCALENDAR